Workbook

Sheet Balancete
A1: Conta contábil | B1: Descrição da Conta | C1: Saldo anterior | D1: Débito | E1: Crédito | F1: Saldo Atual
A2: 1 | B2: Ativo | C2: =C3+C197 -> 58054015 | D2: =D3+D197 -> 4.2609948e+08 | E2: =E3+E197 -> 4.2902256e+08 | F2: =F3+F197 -> 55130944
A3: 1.1 | B3: Ativo Circulante | C3: =C4+C67+C151+C155+C162+C172+C194 -> 42667159 | D3: =D4+D67+D151+D155+D162+D172+D194 -> 4.2536477e+08 | E3: =E4+E67+E151+E155+E162+E172+E194 -> 4.2882344e+08 | F3: =F4+F67+F151+F155+F162+F172+F194 -> 39208483
A4: 1.1.1 | B4: Disponível | C4: =C5+C7+C35 -> 24735972 | D4: =D5+D7+D35 -> 3.6001073e+08 | E4: =E5+E7+E35 -> 3.5995588e+08 | F4: =F5+F7+F35 -> 24790820
A5: 1.1.1.01 | B5: Caixa | C5: =SUM(C6:C6) -> 19.06 | D5: =SUM(D6:D6) -> 0 | E5: =SUM(E6:E6) -> 0 | F5: =SUM(F6:F6) -> 19.06
A6: 1.1.1.01.00001 | B6: Caixa | C6: 19.06 | D6: 0 | E6: 0 | F6: 19.06
A7: 1.1.1.02 | B7: Bancos Conta Movimento | C7: =SUM(C8:C34) -> 14276.58 | D7: =SUM(D8:D34) -> 2.8426459e+08 | E7: =SUM(E8:E34) -> 2.8417453e+08 | F7: =SUM(F8:F34) -> 104340.95
A8: 1.1.1.02.00010 | B8: Banco Santander - C/C 13-009265-4 | C8: -14088.96 | D8: 62309507 | E8: 62295419 | F8: 0
A9: 1.1.1.02.00014 | B9: Banco Bradesco CC/ 333.090-7 (***) | C9: 1 | D9: 1236.35 | E9: 1236.35 | F9: 1
A10: 1.1.1.02.00020 | B10: Banco do Brasil C/C 177914-1 | C10: 9663.31 | D10: 21425.09 | E10: 31088.4 | F10: 0
A11: 1.1.1.02.00021 | B11: Banco Santander C/C 13.011302-1 ContaMax | C11: 0 | D11: 32085315 | E11: 32085315 | F11: 0
A12: 1.1.1.02.00038 | B12: CEF 577054751-7 (903420-0) UNIVERSIDADES | C12: 0 | D12: 2773137 | E12: 2773137 | F12: 0
A13: 1.1.1.02.00058 | B13: CEF 577217355-0 FHSL (ANTIGA 366-2) | C13: 734.94 | D13: 61811819 | E13: 61809609 | F13: 2945.03
A14: 1.1.1.02.00062 | B14: CEF 577054671-5 (0491-0) HMFA Municipal | C14: 0 | D14: 482.92 | E14: 0.22 | F14: 482.7
A15: 1.1.1.02.00071 | B15: CEF 577054682-0 (0670-0) SER Munic | C15: 4 | D15: 21513.78 | E15: 9712.73 | F15: 11805.05
A16: 1.1.1.02.00072 | B16: CEF 577054685-5 (0744-7) HSL MUNICIPAL | C16: 0 | D16: 2988574.6 | E16: 2988574.6 | F16: 0
A17: 1.1.1.02.00073 | B17: CEF 577054686-3 (0745-5) HSL FEDERAL | C17: 0 | D17: 11169851 | E17: 11169851 | F17: 0
A18: 1.1.1.02.00076 | B18: CEF 577054705-3 (0899-0) CAPS FEDERAL | C18: 8 | D18: 762437.98 | E18: 762445.98 | F18: 0
A19: 1.1.1.02.00078 | B19: CEF 577054709-6 (0925-3) CAPS MUNICIPAL | C19: 5585.56 | D19: 3356599.3 | E19: 3362184.8 | F19: 0
... A34: 1.1.1.02.00113 | B34: Transfere GOV CEF 573469094-1 (3510-0) | C34: 0 | D34: 103917.87 | E34: 82555.4 | F34: 21362.47
A35: 1.1.1.03 | B35: Aplicações de Liquidez Imediata | C35: =SUM(C36:C66) -> 24721676 | D35: =SUM(D36:D66) -> 75746140 | E35: =SUM(E36:E66) -> 75781356 | F35: =SUM(F36:F66) -> 24686460
A36: 1.1.1.03.00020 | B36: BB CP Automático C/C 177914-1 | C36: 64385.11 | D36: 1764.08 | E36: 21564.75 | F36: 44584.44
A37: 1.1.1.03.00022 | B37: Santander CDB ContaMax 13009265-4 | C37: 0 | D37: 353541.59 | E37: 294189.86 | F37: 59351.73
A38: 1.1.1.03.00023 | B38: Santander CDB ContaMax 13011302-1 | C38: 2349.94 | D38: 14831998 | E38: 14832261 | F38: 2087.38
A39: 1.1.1.03.00037 | B39: Banco Bradesco Invest Facil 333090-7 | C39: 4776.8 | D39: 0 | E39: 1226.87 | F39: 3549.93
A40: 1.1.1.03.00050 | B40: CEF 577054751-7 (903420-0) UNIV FIC Giro | C40: 1.03 | D40: 587741.85 | E40: 581674.57 | F40: 6068.31
A41: 1.1.1.03.00073 | B41: CEF 577054671-5 (0491-0) HMFA FIC GIRO | C41: 31.15 | D41: 0.96 | E41: 0.22 | F41: 31.89
A42: 1.1.1.03.00081 | B42: CEF 577054682-0 (0670-0) SER Fic Mun | C42: 0.49 | D42: 0.02 | E42: 0 | F42: 0.51
A43: 1.1.1.03.00082 | B43: CEF 577054685-5 (0744-7)HSL MUN FIC Giro | C43: 83.45 | D43: 1469289.9 | E43: 1468913.6 | F43: 459.71
A44: 1.1.1.03.00083 | B44: CEF 577054686-3 (0745-5) HSL FED FIC Gir | C44: 13.49 | D44: 5466561.8 | E44: 5466084.5 | F44: 490.75
A45: 1.1.1.03.00095 | B45: CEF 577054683-9 (0700-5) HSL EST FIC Gir | C45: 0.56 | D45: 3352245.7 | E45: 3346347 | F45: 5899.24
A46: 1.1.1.03.00097 | B46: CEF 577054715-0 (1036-7) HMFA Fed FICGir | C46: 348269.97 | D46: 549.21 | E46: 348746.06 | F46: 73.12
A47: 1.1.1.03.00105 | B47: CEF 577054724-0 (1086-3) UPA UNIF MUN Fi | C47: 641105.5 | D47: 22922684 | E47: 19658913 | F47: 3904875.8
... A66: 1.1.1.03.00132 | B66: CEF 572952293-9 UCE CDB FLX | C66: 0 | D66: 13401.33 | E66: 0 | F66: 13401.33
A67: 1.1.2 | B67: Contas A Receber | C67: =C68+C71+C93+C112+C116+C120+C124+C128+C131+C134+C136+C139+C142+C145+C149 -> 12802128 | D67: =D68+D71+D93+D112+D116+D120+D124+D128+D131+D134+D136+D139+D142+D145+D149 -> 56089342 | E67: =E68+E71+E93+E112+E116+E120+E124+E128+E131+E134+E136+E139+E142+E145+E149 -> 59444635 | F67: =F68+F71+F93+F112+F116+F120+F124+F128+F131+F134+F136+F139+F142+F145+F149 -> 9446835.9
A68: 1.1.2.01 | B68: Contas a Receber Sus | C68: =SUM(C69:C70) -> 1354054.5 | D68: =SUM(D69:D70) -> 0 | E68: =SUM(E69:E70) -> 0 | F68: =SUM(F69:F70) -> 1354054.5
A69: 1.1.2.01.00001 | B69: SUS - Serviços Hospitalares- A Receber | C69: 644757.44 | D69: 0 | E69: 0 | F69: 644757.44
A70: 1.1.2.01.00003 | B70: Contratos de Gestão | C70: 709297.1 | D70: 0 | E70: 0 | F70: 709297.1
A71: 1.1.2.02 | B71: Contas a Receber Convenios | C71: =SUM(C72:C92) -> 765622.95 | D71: =SUM(D72:D92) -> 0 | E71: =SUM(E72:E92) -> 0 | F71: =SUM(F72:F92) -> 765622.95
A72: 1.1.2.02.00002 | B72: AMIL Assistencia Médica Sao Paulo S/A | C72: 7066.78 | D72: 0 | E72: 0 | F72: 7066.78
...
